BEGIN:VCALENDAR
VERSION:2.0
PRODID:-//ChamberMaster//Event Calendar 2.0//EN
METHOD:PUBLISH
X-PUBLISHED-TTL:P3D
REFRESH-INTERVAL:P3D
CALSCALE:GREGORIAN
BEGIN:VEVENT
DTSTART:20251016T113000Z
DTEND:20251016T123000Z
X-MICROSOFT-CDO-ALLDAYEVENT:FALSE
SUMMARY:AM BUZZ: BOYS & GIRLS CLUB
DESCRIPTION:Join us for a morning of networking and light bites at the Boys & Girls Club!\n\n\n\nRegistration not required to attend.
X-ALT-DESC;FMTTYPE=text/html:Join us for a morning of networking and light bites at the Boys &amp\; Girls Club!<br />\n<br />\nRegistration not required to attend.
LOCATION:Boys and Girls Clubs of Central Carolina: OT Sloan Site 1414 Bragg St. Sanford\, NC 27330
UID:e.2280.3328
SEQUENCE:3
DTSTAMP:20260422T130331Z
URL:https://business.growsanfordnc.com/events/details/am-buzz-boys-girls-club-3328
END:VEVENT

END:VCALENDAR
