BEGIN:VCALENDAR
VERSION:2.0
PRODID:-//ChamberMaster//Event Calendar 2.0//EN
METHOD:PUBLISH
X-PUBLISHED-TTL:P3D
REFRESH-INTERVAL:P3D
CALSCALE:GREGORIAN
BEGIN:VEVENT
DTSTART:20250515T113000Z
DTEND:20250515T123000Z
X-MICROSOFT-CDO-ALLDAYEVENT:FALSE
SUMMARY:AM BUZZ: CUOC
DESCRIPTION:Join us for a morning of networking and light bites at the Christians United Outreach Center of Lee County!\n\n\n\nRegistration not required to attend.
X-ALT-DESC;FMTTYPE=text/html:Join us for a morning of networking and light bites at the Christians United Outreach Center of Lee County!<br />\n<br />\nRegistration not required to attend.
LOCATION:CUOCCL Thrift Store 109 E Main Street Sanford\, NC 27332
UID:e.2280.3324
SEQUENCE:3
DTSTAMP:20260422T194816Z
URL:https://business.growsanfordnc.com/events/details/am-buzz-cuoc-3324
END:VEVENT

END:VCALENDAR
