BEGIN:VCALENDAR
VERSION:2.0
PRODID:-//ChamberMaster//Event Calendar 2.0//EN
METHOD:PUBLISH
X-PUBLISHED-TTL:P3D
REFRESH-INTERVAL:P3D
CALSCALE:GREGORIAN
BEGIN:VEVENT
DTSTART:20250821T113000Z
DTEND:20250821T123000Z
X-MICROSOFT-CDO-ALLDAYEVENT:FALSE
SUMMARY:AM BUZZ: FIRSTHEALTH FITNESS
DESCRIPTION:Join us for a morning of networking and light bites at FirstHealth Fitness!\n\n\n\nRegistration not required to attend.
X-ALT-DESC;FMTTYPE=text/html:Join us for a morning of networking and light bites at FirstHealth Fitness!<br />\n<br />\nRegistration not required to attend.
LOCATION:2925 Beechtree Dr Sanford\, NC 27330 United States
UID:e.2280.3326
SEQUENCE:3
DTSTAMP:20260422T150836Z
URL:https://business.growsanfordnc.com/events/details/am-buzz-firsthealth-fitness-3326
END:VEVENT

END:VCALENDAR
