BEGIN:VCALENDAR
VERSION:2.0
PRODID:-//ChamberMaster//Event Calendar 2.0//EN
METHOD:PUBLISH
X-PUBLISHED-TTL:P3D
REFRESH-INTERVAL:P3D
CALSCALE:GREGORIAN
BEGIN:VEVENT
DTSTART:20260319T113000Z
DTEND:20260319T123000Z
X-MICROSOFT-CDO-ALLDAYEVENT:FALSE
SUMMARY:AM Buzz hosted by Mann Center of the Arts 3/2026
DESCRIPTION:Networking with a jolt! Join us at 7:30am to network with local business owners and Chamber investors.\n\nLight refreshments will be provided.\n\nBring business cards for networking!
X-ALT-DESC;FMTTYPE=text/html:<span style="font-size:14px\;"><span style="line-height: 15.6px\;">Networking with a jolt! Join us at 7:30am to network with local business owners and Chamber investors.<br />\nLight refreshments will be provided.</span><br />\nBring business cards for networking!</span>
LOCATION:Mann Center for the Arts 507 North Steele Street Sanford NC
UID:e.2280.3483
SEQUENCE:3
DTSTAMP:20260422T021748Z
URL:https://business.growsanfordnc.com/events/details/am-buzz-hosted-by-mann-center-of-the-arts-3-2026-3483
END:VEVENT

END:VCALENDAR
