BEGIN:VCALENDAR
VERSION:2.0
PRODID:-//ChamberMaster//Event Calendar 2.0//EN
METHOD:PUBLISH
X-PUBLISHED-TTL:P3D
REFRESH-INTERVAL:P3D
CALSCALE:GREGORIAN
BEGIN:VEVENT
DTSTART:20250130T220000Z
DTEND:20250130T233000Z
X-MICROSOFT-CDO-ALLDAYEVENT:FALSE
SUMMARY:Business After Hours - Adcock Real Estate Services 1/2025
DESCRIPTION:You're Invited!\n\nJoin us for a Business After Hours hosted by Adcock Real Estate Services to celebrate the grand opening of their second location!\n\n  Enjoy an evening of networking\, delicious brats\, and refreshing beers as we toast to their exciting new chapter.\n\nDon't miss out on the fun we look forward to seeing you there!
X-ALT-DESC;FMTTYPE=text/html:<p><span style="font-size:16px\;"><span style="font-family:tahoma\;"><strong>You&rsquo\;re Invited!</strong></span></span></p>\n\n<p><span style="font-size:16px\;"><span style="font-family:tahoma\;">Join us for a <strong>Business After Hours</strong>&nbsp\;hosted by Adcock Real Estate Services to celebrate the grand opening of their second location!</span></span></p>\n\n<p><span style="font-size:16px\;"><span style="font-family:tahoma\;">&#127775\; Enjoy an evening of networking\, delicious brats\, and refreshing beers as we toast to their exciting new chapter.</span></span></p>\n\n<p><span style="font-size:16px\;"><span style="font-family:tahoma\;">Don&rsquo\;t miss out on the fun&mdash\;we look forward to seeing you there!</span></span></p>\n\n<div style="text-align: center\;"><br />\n&nbsp\;</div>\n
LOCATION:Adcock Real Estate Services 1135 Spring Lane Sanford\, NC 27330
UID:e.2280.3318
SEQUENCE:3
DTSTAMP:20260424T134533Z
URL:https://business.growsanfordnc.com/events/details/business-after-hours-adcock-real-estate-services-1-2025-3318
END:VEVENT

END:VCALENDAR
