BEGIN:VCALENDAR
VERSION:2.0
PRODID:-//ChamberMaster//Event Calendar 2.0//EN
METHOD:PUBLISH
X-PUBLISHED-TTL:P3D
REFRESH-INTERVAL:P3D
CALSCALE:GREGORIAN
BEGIN:VEVENT
DTSTART:20250313T210000Z
DTEND:20250313T223000Z
X-MICROSOFT-CDO-ALLDAYEVENT:FALSE
SUMMARY:BUSINESS AFTER HOURS: GUILD MORTGAGE
DESCRIPTION:Join us for networking over drinks and light bites at Guild Mortgage as we celebrate the ACC Championship! \n\n	Camelback Brewing Company mobile taps  \n	Grilling Hamburgers & Hotdogs   \n	The game on the TVs  \n	A fun photo station  \n	A game with prizes  \n	Door prizes  \n\n\n\nThis event is FREE to attend!\n\nBring business cards for networking!
X-ALT-DESC;FMTTYPE=text/html:<span style="font-size:16px\;"><span style="font-family:tahoma\;">Join us for networking over drinks and light bites at Guild Mortgage as we celebrate the ACC Championship!&nbsp\;</span></span>\n<ul>\n	<li><span style="font-size:16px\;"><span style="font-family:tahoma\;"><strong>Camelback Brewing Company</strong> mobile taps &#127867\;</span></span></li>\n	<li><span style="font-size:16px\;"><span style="font-family:tahoma\;">Grilling <strong>Hamburgers &amp\; Hotdogs</strong> &#127828\;&#127789\;</span></span></li>\n	<li><span style="font-size:16px\;"><span style="font-family:tahoma\;">The game on the TVs &#128250\;</span></span></li>\n	<li><span style="font-size:16px\;"><span style="font-family:tahoma\;">A fun <strong>photo station</strong> &#128248\;</span></span></li>\n	<li><span style="font-size:16px\;"><span style="font-family:tahoma\;">A <strong>game with prizes</strong> &#127881\;</span></span></li>\n	<li><span style="font-size:16px\;"><span style="font-family:tahoma\;"><strong>Door prizes</strong> &#127873\;</span></span></li>\n</ul>\n<br />\n<span style="font-size:16px\;"><span style="font-family:tahoma\;">This event is FREE to attend!<br />\nBring business cards for networking!</span></span>
LOCATION:Guild Mortgage 212 Hawkins Ave Sanford\, NC 27330
UID:e.2280.3333
SEQUENCE:3
DTSTAMP:20260424T102325Z
URL:https://business.growsanfordnc.com/events/details/business-after-hours-guild-mortgage-3333
END:VEVENT

END:VCALENDAR
