BEGIN:VCALENDAR
VERSION:2.0
PRODID:-//ChamberMaster//Event Calendar 2.0//EN
METHOD:PUBLISH
X-PUBLISHED-TTL:P3D
REFRESH-INTERVAL:P3D
CALSCALE:GREGORIAN
BEGIN:VEVENT
DTSTART:20250522T210000Z
DTEND:20250522T223000Z
X-MICROSOFT-CDO-ALLDAYEVENT:FALSE
SUMMARY:BUSINESS AFTER HOURS: SANFORD CONTRACTORS
DESCRIPTION:Join us for networking over drinks and light bites at Sanford Contractors' offices.\n\n\n\nThis event is FREE to attend! Bring business cards for networking!
X-ALT-DESC;FMTTYPE=text/html:Join us for networking over drinks and light bites at Sanford Contractors&#39\; offices.<br />\n<br />\nThis event is FREE to attend! Bring business cards for networking!
LOCATION:Sanford Contractors 628 Rocky Fork Church Rd. Sanford\, NC 27332
UID:e.2280.3331
SEQUENCE:3
DTSTAMP:20260422T195448Z
URL:https://business.growsanfordnc.com/events/details/business-after-hours-sanford-contractors-3331
END:VEVENT

END:VCALENDAR
