BEGIN:VCALENDAR
VERSION:2.0
PRODID:-//ChamberMaster//Event Calendar 2.0//EN
METHOD:PUBLISH
X-PUBLISHED-TTL:P3D
REFRESH-INTERVAL:P3D
CALSCALE:GREGORIAN
BEGIN:VEVENT
DTSTART:20250621T140000Z
DTEND:20250621T190000Z
X-MICROSOFT-CDO-ALLDAYEVENT:FALSE
SUMMARY:Car Wash for a Cause
DESCRIPTION:Benefitting our new Adult and Teen Challenge Women's Program here in Sanford!
X-ALT-DESC;FMTTYPE=text/html:Benefitting our new Adult and Teen Challenge Women&#39\;s Program here in Sanford!
LOCATION:O'Reilly Auto Parts 1951 S Horner Blvd Sanford\, NC 27330
UID:e.2280.3375
SEQUENCE:3
DTSTAMP:20260422T195131Z
URL:https://business.growsanfordnc.com/events/details/car-wash-for-a-cause-3375
END:VEVENT

END:VCALENDAR
