BEGIN:VCALENDAR
VERSION:2.0
PRODID:-//ChamberMaster//Event Calendar 2.0//EN
METHOD:PUBLISH
X-PUBLISHED-TTL:P3D
REFRESH-INTERVAL:P3D
CALSCALE:GREGORIAN
BEGIN:VEVENT
DTSTART:20251114T133000Z
DTEND:20251114T180000Z
X-MICROSOFT-CDO-ALLDAYEVENT:FALSE
SUMMARY:Chamber Clays Tournament 2025
DESCRIPTION:Sanford Area Growth Alliance Presents:\n\n \n\n2025 Chamber Clays Tournament \n\n \n\nHosted at Deep River Sporting Clays\n\nChamber Members: $500/Team*\n\nGeneral Admission: $550/Team*\n\n \n\n*Teams consist of 5 participants\n\n \n\n                                            **SHOOTING PAVILION**                                           \n\n     **WOBBLE DECK** \n\n \n\n**SECOND CHANCE SHOTS**
X-ALT-DESC;FMTTYPE=text/html:<div style="text-align: center\;"><span style="font-size:22px\;"><span style="font-family:tahoma\;">Sanford Area Growth Alliance Presents:</span></span><br />\n&nbsp\;</div>\n\n<div style="text-align: center\;"><span style="font-family:tahoma\;"><span style="font-size:18px\;"><strong><span style="font-size:20px\;">2025&nbsp\;Chamber Clays Tournament&nbsp\;</span></strong></span></span><br />\n&nbsp\;</div>\n\n<div style="text-align: center\;"><span style="font-family:tahoma\;"><span style="font-size:18px\;">Hosted at Deep River Sporting Clays<br />\nChamber Members:&nbsp\;$500/Team*<br />\nGeneral Admission:&nbsp\;$550/Team*</span></span><br />\n&nbsp\;</div>\n\n<div style="text-align: right\;"><span style="font-family:tahoma\;"><span style="font-size:14px\;">*Teams consist of 5 participants</span></span><br />\n&nbsp\;</div>\n\n<div style="text-align: center\;"><span style="font-family:tahoma\;"><span style="font-size:18px\;"><strong>&nbsp\; &nbsp\; &nbsp\; &nbsp\; &nbsp\; &nbsp\; &nbsp\; &nbsp\; &nbsp\; &nbsp\; &nbsp\; &nbsp\; &nbsp\; &nbsp\; &nbsp\; &nbsp\; &nbsp\; &nbsp\; &nbsp\; &nbsp\; &nbsp\; &nbsp\; **SHOOTING PAVILION**&nbsp\; &nbsp\; &nbsp\; &nbsp\; &nbsp\; &nbsp\; &nbsp\; &nbsp\; &nbsp\; &nbsp\; &nbsp\; &nbsp\; &nbsp\; &nbsp\; &nbsp\; &nbsp\; &nbsp\; &nbsp\; &nbsp\; &nbsp\; &nbsp\; &nbsp\;</strong></span></span></div>\n\n<div style="text-align: center\;"><span style="font-family:tahoma\;"><span style="font-size:18px\;"><strong>&nbsp\; &nbsp\; &nbsp\;**WOBBLE DECK**&nbsp\;</strong></span></span></div>\n\n<div style="text-align: center\;"><span style="font-family:tahoma\;"><span style="font-size:18px\;"><strong>&nbsp\;<br />\n**SECOND CHANCE SHOTS**</strong></span></span></div>\n
LOCATION:Deep River Sporting Clays 284 Cletus Hall Road Sanford\, NC 27330
UID:e.2280.3404
SEQUENCE:3
DTSTAMP:20260422T112844Z
URL:https://business.growsanfordnc.com/events/details/chamber-clays-tournament-2025-3404
END:VEVENT

END:VCALENDAR
