BEGIN:VCALENDAR
VERSION:2.0
PRODID:-//ChamberMaster//Event Calendar 2.0//EN
METHOD:PUBLISH
X-PUBLISHED-TTL:P3D
REFRESH-INTERVAL:P3D
CALSCALE:GREGORIAN
BEGIN:VEVENT
DTSTART:20241031T150000Z
DTEND:20241228T220000Z
X-MICROSOFT-CDO-ALLDAYEVENT:FALSE
SUMMARY:Holiday Treasures at Oxide Gallery of Fine Art
DESCRIPTION:Join us for Holiday Treasures\, a two month exhibition at Oxide Gallery of Fine Art in Historic Downtown Sanford. Featuring work by over two dozen artists\, the Gallery will be decked out in a seasonal and holiday display with enchanting art gifts\, main gallery exhibitions\, fine art jewelry and decorations\, and more.
X-ALT-DESC;FMTTYPE=text/html:Join us for Holiday Treasures\, a two month exhibition at Oxide Gallery of Fine Art in Historic Downtown Sanford. Featuring work by over two dozen artists\, the Gallery will be decked out in a seasonal and holiday display with enchanting art gifts\, main gallery exhibitions\, fine art jewelry and decorations\, and more.
LOCATION:Oxide Gallery of Fine Art 148 S. Moore Street Sanford NC 27330
UID:e.2280.3282
SEQUENCE:3
DTSTAMP:20260424T170936Z
URL:https://business.growsanfordnc.com/events/details/holiday-treasures-at-oxide-gallery-of-fine-art-3282
END:VEVENT

END:VCALENDAR
