BEGIN:VCALENDAR
VERSION:2.0
PRODID:-//ChamberMaster//Event Calendar 2.0//EN
METHOD:PUBLISH
X-PUBLISHED-TTL:P3D
REFRESH-INTERVAL:P3D
CALSCALE:GREGORIAN
BEGIN:VEVENT
DTSTART:20251006T154500Z
DTEND:20251006T170000Z
X-MICROSOFT-CDO-ALLDAYEVENT:FALSE
SUMMARY:Public Policy Luncheon - CEMC & Duke Energy 10/2025
DESCRIPTION:Join us for a Public Policy Luncheon with a presentation from Central Electric Membership Corporation and Duke Energy!\n\n \n\nAs our region experiences rapid population growth and economic expansion\, the demand for reliable energy continues to rise. This program will highlight how Central Electric and Duke Energy our area's two major electric providers are working to meet this challenge.\n\nFrom strengthening the local grid to making strategic investments in innovation\, these utilities are focused on ensuring long-term reliability\, affordability\, and sustainability for both residents and businesses.\n\nJoin us for a unique opportunity to hear directly from utility leaders as they share insights on energy infrastructure planning\, industry innovation\, and how statewide and global energy trends are shaping the future right here in our community.
X-ALT-DESC;FMTTYPE=text/html:<p style="text-align: center\;"><span style="font-size:14px\;"><span style="font-family:arial\;">Join us for a Public Policy Luncheon with a presentation from Central Electric Membership Corporation and Duke Energy!</span></span><br />\n&nbsp\;</p>\n\n<p data-end="606" data-start="127"><span style="font-size:14px\;"><span style="font-family:arial\;">As our region experiences rapid population growth and economic expansion\, the demand for reliable energy continues to rise. This program will highlight how Central Electric and Duke Energy&mdash\;our area&rsquo\;s two major electric providers&mdash\;are working to meet this challenge.<br />\nFrom strengthening the local grid to making strategic investments in innovation\, these utilities are focused on ensuring long-term reliability\, affordability\, and sustainability for both residents and businesses.</span></span></p>\n\n<p data-end="854" data-start="608"><span style="font-size:14px\;"><span style="font-family:arial\;">Join us for a unique opportunity to hear directly from utility leaders as they share insights on energy infrastructure planning\, industry innovation\, and how statewide and global energy trends are shaping the future right here in our community.</span></span></p>\n
LOCATION:Dennis Wicker Civic Center 1801 Nash Street Sanford\, NC 27330 Conference Rooms 111 & 112
UID:e.2280.3392
SEQUENCE:3
DTSTAMP:20260422T140029Z
URL:https://business.growsanfordnc.com/events/details/public-policy-luncheon-cemc-duke-energy-10-2025-3392
END:VEVENT

END:VCALENDAR
