BEGIN:VCALENDAR
VERSION:2.0
PRODID:-//ChamberMaster//Event Calendar 2.0//EN
METHOD:PUBLISH
X-PUBLISHED-TTL:P3D
REFRESH-INTERVAL:P3D
CALSCALE:GREGORIAN
BEGIN:VEVENT
DTSTART:20250407T154500Z
DTEND:20250407T170000Z
X-MICROSOFT-CDO-ALLDAYEVENT:FALSE
SUMMARY:Public Policy Luncheon - Lee County Government 4/2025
DESCRIPTION:Lisa Minter\, Lee County Manager\, and her team will provide updates on county projects\, followed by a special presentation from Sheriff Brian Estes.\n\nWhether you're new to the area or a lifelong resident\, there's always something new to learn about the community where you live\, work\, and play.\n\nJoin us for an engaging and informative Lee County Government presentation.\n\nRegistration is open lunch included!
X-ALT-DESC;FMTTYPE=text/html:<div style="text-align: center\;">&nbsp\;\n<p data-end="228" data-start="79"><span style="font-size:16px\;"><span style="font-family:tahoma\;">Lisa Minter\, Lee County Manager\, and her team will provide updates on county projects\, followed by a special presentation from Sheriff Brian Estes.</span></span></p>\n\n<p data-end="376" data-start="230"><span style="font-size:16px\;"><span style="font-family:tahoma\;">Whether you&#39\;re new to the area or a lifelong resident\, there&rsquo\;s always something new to learn about the community where you live\, work\, and play.</span></span></p>\n\n<p data-end="455" data-start="378"><span style="font-size:16px\;"><span style="font-family:tahoma\;">Join us for an engaging and informative Lee County Government presentation.</span></span></p>\n\n<p data-end="499" data-start="457"><span style="font-size:16px\;"><span style="font-family:tahoma\;"><strong data-end="497" data-start="457">Registration is open&mdash\;lunch included!</strong></span></span></p>\n</div>\n
LOCATION:Dennis A. Wicker Conference Center Rooms 111\, 112 1801 Nash Street Sanford\, NC 27330
UID:e.2280.3336
SEQUENCE:3
DTSTAMP:20260424T102505Z
URL:https://business.growsanfordnc.com/events/details/public-policy-luncheon-lee-county-government-4-2025-3336
END:VEVENT

END:VCALENDAR
