BEGIN:VCALENDAR
VERSION:2.0
PRODID:-//ChamberMaster//Event Calendar 2.0//EN
METHOD:PUBLISH
X-PUBLISHED-TTL:P3D
REFRESH-INTERVAL:P3D
CALSCALE:GREGORIAN
BEGIN:VEVENT
DTSTART:20250106T164500Z
DTEND:20250106T180000Z
X-MICROSOFT-CDO-ALLDAYEVENT:FALSE
SUMMARY:Public Policy Luncheon - Lee County Schools 1/2025
DESCRIPTION:Lee County Schools plays a pivotal role in driving economic growth within our community\, and the partnership and support of local businesses and citizens are essential to the success of our schools and students.\n\nWe invite you to join us on January 6th for an engaging session led by Lee County Schools Superintendent Dr. Chris Dossenbach. Together\, we'll conduct an interactive SWOT analysis to explore the strengths\, weaknesses\, opportunities\, and threats facing our school system. Your honest feedback and open dialogue will be crucial as we work collaboratively to shape the future of education in Lee County.\n\n\n\n\n*Registration includes lunch*
X-ALT-DESC;FMTTYPE=text/html:<div style="text-align: center\;">\n<p><span style="font-family:tahoma\;"><span style="font-size:16px\;">Lee County Schools plays a pivotal role in driving economic growth within our community\, and the partnership and support of local businesses and citizens are essential to the success of our schools and students.</span></span></p>\n\n<p><span style="font-family:tahoma\;"><span style="font-size:16px\;">We invite you to join us on January 6th for an engaging session led by Lee County Schools Superintendent Dr. Chris Dossenbach. Together\, we&rsquo\;ll conduct an interactive SWOT analysis to explore the strengths\, weaknesses\, opportunities\, and threats facing our school system. Your honest feedback and open dialogue will be crucial as we work collaboratively to shape the future of education in Lee County.</span></span></p>\n<br />\n<br />\n<span style="font-size:14px\;"><span style="font-family:tahoma\;"><span style="font-size:16px\;"><span style="background:white\;">*Registration&nbsp\;includes lunch*</span></span><br />\n<br />\n&nbsp\;</span></span></div>\n
LOCATION:Dennis A. Wicker Civic & Conference Center Rooms 111\, 112 1801 Nash Street Sanford\, NC 27330
UID:e.2280.3311
SEQUENCE:3
DTSTAMP:20260424T134515Z
URL:https://business.growsanfordnc.com/events/details/public-policy-luncheon-lee-county-schools-1-2025-3311
END:VEVENT

END:VCALENDAR
