BEGIN:VCALENDAR
VERSION:2.0
PRODID:-//ChamberMaster//Event Calendar 2.0//EN
METHOD:PUBLISH
X-PUBLISHED-TTL:P3D
REFRESH-INTERVAL:P3D
CALSCALE:GREGORIAN
BEGIN:VEVENT
DTSTART:20211027T200000Z
DTEND:20211027T203000Z
X-MICROSOFT-CDO-ALLDAYEVENT:FALSE
SUMMARY:Ribbon Cutting at Ace of Fades
DESCRIPTION:Ace of Fades: Live Life Well Groomed!\n\n\n\nOwner and head barber Jermaine Terry is looking forward to showing you the interior renovations he's completed on his barbershop. Jermaine and his team of barbers are excited to your serve as your community barbershop. From haircuts for all men\, to men's facials\, you'll be sure to find a friendly atmosphere when you walk into Ace of Fades.\n\n\n\nPlease join us for a Ribbon Cutting to celebrate on Wednesday\, October 27\, 2021 from 4:00 - 4:30 pm.
X-ALT-DESC;FMTTYPE=text/html:<div><br />\n<span style="font-size:14px\;"><span style="font-family:tahoma\;">Ace of Fades: Live Life Well Groomed!</span></span></div>\n\n<div><br />\n<span style="font-size:14px\;"><span style="font-family:tahoma\;">Owner and head barber Jermaine Terry is looking forward to showing you the interior renovations he&rsquo\;s completed on his barbershop. Jermaine and his team of barbers are excited to your serve as your community barbershop. From haircuts for all men\, to men&rsquo\;s facials\, you&rsquo\;ll be sure to find a friendly atmosphere when you walk into Ace of Fades.</span></span></div>\n\n<div><br />\n<span style="font-size:14px\;"><span style="font-family:tahoma\;">Please join us for a Ribbon Cutting to celebrate on Wednesday\, October 27\, 2021 from 4:00 - 4:30 pm.&nbsp\;</span></span><br />\n&nbsp\;</div>\n
LOCATION:Ace of Fades 830 Woodland Ave Sanford\, NC 27330
UID:e.2280.3096
SEQUENCE:3
DTSTAMP:20260419T150631Z
URL:https://business.growsanfordnc.com/events/details/ribbon-cutting-at-ace-of-fades-3096
END:VEVENT

END:VCALENDAR
