BEGIN:VCALENDAR
VERSION:2.0
PRODID:-//ChamberMaster//Event Calendar 2.0//EN
METHOD:PUBLISH
X-PUBLISHED-TTL:P3D
REFRESH-INTERVAL:P3D
CALSCALE:GREGORIAN
BEGIN:VEVENT
DTSTART:20250130T213000Z
DTEND:20250130T220000Z
X-MICROSOFT-CDO-ALLDAYEVENT:FALSE
SUMMARY:Ribbon Cutting at Adcock Real Estate Services 1/2025
DESCRIPTION:Celebrate with Us!\n\n\n\nJoin us for a Ribbon Cutting Ceremony to celebrate the grand opening of Adcock Real Estate Services' second location!\n\nAfter the ribbon cutting\, keep the celebration going at their Business After Hours event.\n\nEnjoy beers\, brats\, and great networking!\n\nWe look forward to seeing you there!
X-ALT-DESC;FMTTYPE=text/html:<p>&nbsp\;</p>\n\n<p style="text-align: center\;"><strong>Celebrate with Us!</strong></p>\n\n<p><br />\nJoin us for a Ribbon Cutting Ceremony to celebrate the grand opening of Adcock Real Estate Services&#39\; second location!</p>\n\n<p>After the ribbon cutting\, keep the celebration going at their <strong>Business After Hours</strong> event.<br />\nEnjoy beers\, brats\, and great networking!</p>\n\n<p style="text-align: center\;">We look forward to seeing you there!</p>\n\n<div style="text-align: center\;">&nbsp\;</div>\n
LOCATION:Adcock Real Estate Services 1135 Spring Lane Sanford\, NC 27330
UID:e.2280.3317
SEQUENCE:3
DTSTAMP:20260424T141224Z
URL:https://business.growsanfordnc.com/events/details/ribbon-cutting-at-adcock-real-estate-services-1-2025-3317
END:VEVENT

END:VCALENDAR
