BEGIN:VCALENDAR
VERSION:2.0
PRODID:-//ChamberMaster//Event Calendar 2.0//EN
METHOD:PUBLISH
X-PUBLISHED-TTL:P3D
REFRESH-INTERVAL:P3D
CALSCALE:GREGORIAN
BEGIN:VEVENT
DTSTART:20260325T190000Z
DTEND:20260325T200000Z
X-MICROSOFT-CDO-ALLDAYEVENT:FALSE
SUMMARY:Ribbon Cutting at Pilgrim's Sanford Agricultural Marketplace 3/2026
DESCRIPTION:Join us along with the City of Sanford and its community partners for a Ribbon Cutting to celebrate the opening of the Pilgrim's Sanford Agricultural Marketplace.\n\n\n\n"The Marketplace will celebrate Lee County's rich agricultural heritage while promoting the vibrancy and diversity of downtown Sanford through food and community" - Dr Bill Stone\, County Extension Director\, NC Cooperative Extension-Lee County.\n\n\n\nThe event will include facility tours and refreshments.
X-ALT-DESC;FMTTYPE=text/html:<p><span style="font-family:tahoma\;"><span style="font-size:14px\;"><strong>Join us along with the City of Sanford and its community partners for a Ribbon Cutting to celebrate the opening of the Pilgrim&#39\;s Sanford Agricultural Marketplace.<br />\n<br />\n<span style="font-weight: 900\; background-color: rgb(255\, 255\, 255)\;">&quot\;The Marketplace will celebrate Lee County&rsquo\;s rich agricultural heritage while promoting the vibrancy and diversity of downtown Sanford through food and community&quot\; - Dr Bill Stone\,&nbsp\;</span>County Extension Director\, NC Cooperative Extension-Lee County.<br />\n<br />\nThe event will include facility tours and refreshments.</strong></span></span></p>\n
LOCATION:Pilgrim's Sanford Agricultural Marketplace 157 Charlotte Avenue Sanford\, NC 27330
UID:e.2280.3484
SEQUENCE:3
DTSTAMP:20260422T022105Z
URL:https://business.growsanfordnc.com/events/details/ribbon-cutting-at-pilgrim-s-sanford-agricultural-marketplace-3-2026-3484
END:VEVENT

END:VCALENDAR
