BEGIN:VCALENDAR
VERSION:2.0
PRODID:-//ChamberMaster//Event Calendar 2.0//EN
METHOD:PUBLISH
X-PUBLISHED-TTL:P3D
REFRESH-INTERVAL:P3D
CALSCALE:GREGORIAN
BEGIN:VEVENT
DTSTART:20250509T153000Z
DTEND:20250509T160000Z
X-MICROSOFT-CDO-ALLDAYEVENT:FALSE
SUMMARY:Ribbon Cutting at Thimble & Stash 5/9/25
DESCRIPTION:Celebrate with Us!\n\n\n\nJoin us for a Ribbon Cutting Ceremony to celebrate the grand opening of Thimble & Stash in Historic Downtown Sanford!
X-ALT-DESC;FMTTYPE=text/html:<p>&nbsp\;</p>\n\n<p style="text-align: center\;"><strong>Celebrate with Us!</strong></p>\n\n<p><br />\nJoin us for a Ribbon Cutting Ceremony to celebrate the grand opening of Thimble &amp\; Stash in Historic Downtown Sanford!</p>\n
LOCATION:Thimble & Stash 403 Carthage St. Sanford\, NC 27330
UID:e.2280.3345
SEQUENCE:3
DTSTAMP:20260422T195216Z
URL:https://business.growsanfordnc.com/events/details/ribbon-cutting-at-thimble-stash-5-9-25-3345
END:VEVENT

END:VCALENDAR
