BEGIN:VCALENDAR
VERSION:2.0
PRODID:-//ChamberMaster//Event Calendar 2.0//EN
METHOD:PUBLISH
X-PUBLISHED-TTL:P3D
REFRESH-INTERVAL:P3D
CALSCALE:GREGORIAN
BEGIN:VEVENT
DTSTART:20250408T150000Z
DTEND:20250408T153000Z
X-MICROSOFT-CDO-ALLDAYEVENT:FALSE
SUMMARY:Ribbon Cutting: Meridian Waste April 8th\, 2025
DESCRIPTION:Join us for a Ribbon Cutting to celebrate Meridian Waste!
X-ALT-DESC;FMTTYPE=text/html:<p>Join us for a Ribbon Cutting to celebrate Meridian Waste!</p>\n\n<div style="text-align: center\;">&nbsp\;</div>\n
LOCATION:274-B Cumnock Road Sanford\, NC 27330
UID:e.2280.3337
SEQUENCE:3
DTSTAMP:20260424T084802Z
URL:https://business.growsanfordnc.com/events/details/ribbon-cutting-meridian-waste-april-8th-2025-3337
END:VEVENT

END:VCALENDAR
