BEGIN:VCALENDAR
VERSION:2.0
PRODID:-//ChamberMaster//Event Calendar 2.0//EN
METHOD:PUBLISH
X-PUBLISHED-TTL:P3D
REFRESH-INTERVAL:P3D
CALSCALE:GREGORIAN
BEGIN:VEVENT
DTSTART:20250409T170000Z
DTEND:20250409T173000Z
X-MICROSOFT-CDO-ALLDAYEVENT:FALSE
SUMMARY:Ribbon Cutting: The Cottages at McKee Homes April 9th 2025
DESCRIPTION:Join us for a Ribbon Cutting to celebrate The Cottages at McKee Homes!
X-ALT-DESC;FMTTYPE=text/html:<p>Join us for a Ribbon Cutting to celebrate The Cottages at McKee Homes!</p>\n\n<div style="text-align: center\;">&nbsp\;</div>\n
LOCATION:126 Oban Drive Sanford\, NC 27330
UID:e.2280.3338
SEQUENCE:3
DTSTAMP:20260424T084913Z
URL:https://business.growsanfordnc.com/events/details/ribbon-cutting-the-cottages-at-mckee-homes-april-9th-2025-3338
END:VEVENT

END:VCALENDAR
