BEGIN:VCALENDAR
VERSION:2.0
PRODID:-//ChamberMaster//Event Calendar 2.0//EN
METHOD:PUBLISH
X-PUBLISHED-TTL:P3D
REFRESH-INTERVAL:P3D
CALSCALE:GREGORIAN
BEGIN:VEVENT
DTSTART:20250211T163000Z
DTEND:20250211T180000Z
X-MICROSOFT-CDO-ALLDAYEVENT:FALSE
SUMMARY:SAGA Presents: The Human Factor Series 2025 Kickoff “TRENDING”
DESCRIPTION:SAGA Presents: The Human Factor Series 2025 Kickoff: "TRENDING"\n\nWe are excited to invite you to our first Human Factor event of the year!\n\nTuesday\, February 11\, 2025\n\n11:30 AM   1:00 PM\n\nDennis Wicker Civic Center Room 111\n\n(this is closest to the Kelly Drive parking lot)\n\n \n\nJoin us for an engaging lunch and presentation as we explore how to connect your business with local education programs to support your hiring needs and workforce development.\n\nFeatured Presentations:\n\nLee County Schools\n\nDiscover how K-12 programs are preparing the next generation for careers in Lee County industries. The Career and Technical Education (CTE) program will be highlighted\, offering insight into apprenticeships and other ways your company can engage with local youth.\n\nCapital Area Workforce Development\n\nGet the latest workforce trends and data\, along with answers to your questions about how to attract\, hire\, and retain talent in today's competitive market.\n\nWhy Attend?\n\nSAGA is dedicated to providing Human Resource professionals and business leaders with the tools\, resources\, and connections to enhance hiring and retention efforts. This event is also a unique opportunity to engage your leadership team with impactful initiatives that strengthen your company and community.\n\nDon't miss this chance to "level up" your workforce strategies and create meaningful partnerships!\n\n\n\nRSVP Today\n\nWe look forward to seeing you there!\n\nLunch provided\, please register for catering numbers by 2/7/25 1pm
X-ALT-DESC;FMTTYPE=text/html:<br />\n<strong>SAGA Presents: The Human Factor Series 2025 Kickoff:&nbsp\;&ldquo\;TRENDING&rdquo\;</strong><br />\nWe are excited to invite you to our first Human Factor event of the year!<br />\n<strong>Tuesday\, February 11\, 2025</strong><br />\n<strong>11:30 AM &ndash\; 1:00 PM</strong><br />\n<strong>Dennis Wicker Civic Center Room 111</strong><br />\n(this is closest to the Kelly Drive parking lot)<br />\n&nbsp\;<br />\nJoin us for an engaging lunch and presentation as we explore how to connect your business with local education programs to support your hiring needs and workforce development.<br />\n<strong>Featured Presentations:</strong><br />\n<strong>Lee County Schools</strong><br />\nDiscover how K-12 programs are preparing the next generation for careers in Lee County industries. The Career and Technical Education (CTE) program will be highlighted\, offering insight into apprenticeships and other ways your company can engage with local youth.<br />\n<strong>Capital Area Workforce Development</strong><br />\nGet the latest workforce trends and data\, along with answers to your questions about how to attract\, hire\, and retain talent in today&rsquo\;s competitive market.<br />\n<strong>Why Attend?</strong><br />\nSAGA is dedicated to providing Human Resource professionals and business leaders with the tools\, resources\, and connections to enhance hiring and retention efforts. This event is also a unique opportunity to engage your leadership team with impactful initiatives that strengthen your company and community.<br />\nDon&rsquo\;t miss this chance to &quot\;level up&quot\; your workforce strategies and create meaningful partnerships!<br />\n<br />\n<strong>RSVP Today</strong><br />\nWe look forward to seeing you there!<br />\nLunch provided\, please register for catering numbers by 2/7/25 1pm
LOCATION:
UID:e.2280.3319
SEQUENCE:3
DTSTAMP:20260424T134515Z
URL:https://business.growsanfordnc.com/events/details/saga-presents-the-human-factor-series-2025-kickoff-trending-3319
END:VEVENT

END:VCALENDAR
