BEGIN:VCALENDAR
VERSION:2.0
PRODID:-//ChamberMaster//Event Calendar 2.0//EN
METHOD:PUBLISH
X-PUBLISHED-TTL:P3D
REFRESH-INTERVAL:P3D
CALSCALE:GREGORIAN
BEGIN:VEVENT
DTSTART:20260512T153000Z
DTEND:20260512T170000Z
X-MICROSOFT-CDO-ALLDAYEVENT:FALSE
SUMMARY:SAGA Presents: The Human Factor Series 2026 "Community Engagement"
DESCRIPTION:SAGA Presents: The Human Factor Series 2026 \n\n"Community Engagement"\n\n(Event by invitation only)\n\nHave you been looking for ways that your company can connect to local opportunities?\n\n \n\nSponsored by: Adcock Real Estate Services\n\nJoin us for an engaging lunch and presentation as we explore how to connect your business with local nonprofits. Engage employees to support community\, grow retention efforts and create team building opportunities.\n\n \n\nFeatured Presentations by Lee County Non-Profits \n\nOrganizations will explain what they do and how you can easily connect to plan activities.\n\n \n\nWhy Attend?\n\nCommunity involvement is key to:\n\n\n	Allows businesses to establish meaningful connections and give back to those in need.\n	Aids in retention efforts for positive employee experiences and principles. \n	Fosters relationships that can lead to growth\, collaboration\, and innovation.\n	Increases brand awareness and positive reputation.\n	Helps businesses thrive by supporting the well-being of their local communities.\n	Complements an organization's business operations and founding principles.\n\n\n \n\nRSVP Today\n\nInvite your company's community communications representative to attend.\n\n \n\nWe look forward to seeing you there!\n\nLunch provided\, please register for catering numbers by 5/8/2026 1pm
X-ALT-DESC;FMTTYPE=text/html:<p align="center" style="font-size: 12pt\; caret-color: rgb(36\, 36\, 36)\; color: rgb(36\, 36\, 36)\; font-family: Aptos\, sans-serif\; text-align: center\; margin: 0px\;"><b><span data-olk-copy-source="MessageBody" style="border: 0px\; font-style: inherit\; font-variant-caps: inherit\; font-weight: inherit\; font-stretch: inherit\; font-size: 14pt\; line-height: inherit\; font-family: Abadi\, sans-serif\; font-size-adjust: inherit\; font-kerning: inherit\; font-variant-alternates: inherit\; font-variant-ligatures: inherit\; font-variant-numeric: inherit\; font-variant-east-asian: inherit\; font-variant-position: inherit\; font-feature-settings: inherit\; font-optical-sizing: inherit\; font-variation-settings: inherit\; margin: 0px\; padding: 0px\; vertical-align: baseline\; color: rgb(33\, 95\, 154)\;">SAGA Presents: The Human Factor Series 2026&nbsp\;</span></b></p>\n\n<p align="center" style="font-size: 12pt\; caret-color: rgb(36\, 36\, 36)\; color: rgb(36\, 36\, 36)\; font-family: Aptos\, sans-serif\; text-align: center\; margin: 0px\;"><b><span style="border: 0px\; font-style: inherit\; font-variant-caps: inherit\; font-weight: inherit\; font-stretch: inherit\; font-size: 14pt\; line-height: inherit\; font-family: Abadi\, sans-serif\; font-size-adjust: inherit\; font-kerning: inherit\; font-variant-alternates: inherit\; font-variant-ligatures: inherit\; font-variant-numeric: inherit\; font-variant-east-asian: inherit\; font-variant-position: inherit\; font-feature-settings: inherit\; font-optical-sizing: inherit\; font-variation-settings: inherit\; margin: 0px\; padding: 0px\; vertical-align: baseline\; color: rgb(33\, 95\, 154)\;">&ldquo\;Community Engagement&rdquo\;</span></b><br />\n(Event by invitation only)</p>\n\n<p align="center" style="font-size: 12pt\; caret-color: rgb(36\, 36\, 36)\; color: rgb(36\, 36\, 36)\; font-family: Aptos\, sans-serif\; text-align: center\; margin: 0px\;"><span style="border: 0px\; font-style: inherit\; font-variant-caps: inherit\; font-stretch: inherit\; font-size: 14pt\; line-height: inherit\; font-family: Abadi\, sans-serif\; font-size-adjust: inherit\; font-kerning: inherit\; font-variant-alternates: inherit\; font-variant-ligatures: inherit\; font-variant-numeric: inherit\; font-variant-east-asian: inherit\; font-variant-position: inherit\; font-feature-settings: inherit\; font-optical-sizing: inherit\; font-variation-settings: inherit\; margin: 0px\; padding: 0px\; vertical-align: baseline\;">Have you been looking for ways that your company can connect to local opportunities?</span></p>\n\n<p align="center" style="font-size: 12pt\; caret-color: rgb(36\, 36\, 36)\; color: rgb(36\, 36\, 36)\; font-family: Aptos\, sans-serif\; text-align: center\; margin: 0px\;"><span style="border: 0px\; font-style: inherit\; font-variant-caps: inherit\; font-stretch: inherit\; font-size: 14pt\; line-height: inherit\; font-family: Abadi\, sans-serif\; font-size-adjust: inherit\; font-kerning: inherit\; font-variant-alternates: inherit\; font-variant-ligatures: inherit\; font-variant-numeric: inherit\; font-variant-east-asian: inherit\; font-variant-position: inherit\; font-feature-settings: inherit\; font-optical-sizing: inherit\; font-variation-settings: inherit\; margin: 0px\; padding: 0px\; vertical-align: baseline\;">&nbsp\;</span></p>\n\n<p align="center" style="font-size: 12pt\; caret-color: rgb(36\, 36\, 36)\; color: rgb(36\, 36\, 36)\; font-family: Aptos\, sans-serif\; text-align: center\; margin: 0px\;"><b><span style="border: 0px\; font-style: inherit\; font-variant-caps: inherit\; font-weight: inherit\; font-stretch: inherit\; font-size: 14pt\; line-height: inherit\; font-family: Abadi\, sans-serif\; font-size-adjust: inherit\; font-kerning: inherit\; font-variant-alternates: inherit\; font-variant-ligatures: inherit\; font-variant-numeric: inherit\; font-variant-east-asian: inherit\; font-variant-position: inherit\; font-feature-settings: inherit\; font-optical-sizing: inherit\; font-variation-settings: inherit\; margin: 0px\; padding: 0px\; vertical-align: baseline\; color: rgb(33\, 95\, 154)\;">Sponsored by: Adcock Real Estate Services</span></b></p>\n\n<p align="center" style="font-size: 12pt\; caret-color: rgb(36\, 36\, 36)\; color: rgb(36\, 36\, 36)\; font-family: Aptos\, sans-serif\; text-align: center\; margin: 0px\;"><span style="border: 0px\; font-style: inherit\; font-variant-caps: inherit\; font-stretch: inherit\; font-size: 14pt\; line-height: inherit\; font-family: Abadi\, sans-serif\; font-size-adjust: inherit\; font-kerning: inherit\; font-variant-alternates: inherit\; font-variant-ligatures: inherit\; font-variant-numeric: inherit\; font-variant-east-asian: inherit\; font-variant-position: inherit\; font-feature-settings: inherit\; font-optical-sizing: inherit\; font-variation-settings: inherit\; margin: 0px\; padding: 0px\; vertical-align: baseline\;">Join us for an engaging lunch and presentation as we explore how to connect your business with local nonprofits. Engage employees to support community\, grow retention efforts and create team building opportunities.</span></p>\n\n<p align="center" style="font-size: 12pt\; caret-color: rgb(36\, 36\, 36)\; color: rgb(36\, 36\, 36)\; font-family: Aptos\, sans-serif\; text-align: center\; margin: 0px\;"><span style="border: 0px\; font-style: inherit\; font-variant-caps: inherit\; font-stretch: inherit\; font-size: 14pt\; line-height: inherit\; font-family: Abadi\, sans-serif\; font-size-adjust: inherit\; font-kerning: inherit\; font-variant-alternates: inherit\; font-variant-ligatures: inherit\; font-variant-numeric: inherit\; font-variant-east-asian: inherit\; font-variant-position: inherit\; font-feature-settings: inherit\; font-optical-sizing: inherit\; font-variation-settings: inherit\; margin: 0px\; padding: 0px\; vertical-align: baseline\;">&nbsp\;</span></p>\n\n<p align="center" style="font-size: 12pt\; caret-color: rgb(36\, 36\, 36)\; color: rgb(36\, 36\, 36)\; font-family: Aptos\, sans-serif\; text-align: center\; margin: 0px\;"><b><span style="border: 0px\; font-style: inherit\; font-variant-caps: inherit\; font-weight: inherit\; font-stretch: inherit\; font-size: 14pt\; line-height: inherit\; font-family: Abadi\, sans-serif\; font-size-adjust: inherit\; font-kerning: inherit\; font-variant-alternates: inherit\; font-variant-ligatures: inherit\; font-variant-numeric: inherit\; font-variant-east-asian: inherit\; font-variant-position: inherit\; font-feature-settings: inherit\; font-optical-sizing: inherit\; font-variation-settings: inherit\; margin: 0px\; padding: 0px\; vertical-align: baseline\; color: rgb(33\, 95\, 154)\;">Featured Presentations by Lee County Non-Profits&nbsp\;</span></b></p>\n\n<p align="center" style="font-size: 12pt\; caret-color: rgb(36\, 36\, 36)\; color: rgb(36\, 36\, 36)\; font-family: Aptos\, sans-serif\; text-align: center\; margin: 0px\;"><span style="border: 0px\; font-style: inherit\; font-variant-caps: inherit\; font-stretch: inherit\; font-size: 14pt\; line-height: inherit\; font-family: Abadi\, sans-serif\; font-size-adjust: inherit\; font-kerning: inherit\; font-variant-alternates: inherit\; font-variant-ligatures: inherit\; font-variant-numeric: inherit\; font-variant-east-asian: inherit\; font-variant-position: inherit\; font-feature-settings: inherit\; font-optical-sizing: inherit\; font-variation-settings: inherit\; margin: 0px\; padding: 0px\; vertical-align: baseline\;">Organizations will explain what they do and how you can easily connect to plan activities.</span></p>\n\n<p align="center" style="font-size: 12pt\; caret-color: rgb(36\, 36\, 36)\; color: rgb(36\, 36\, 36)\; font-family: Aptos\, sans-serif\; text-align: center\; margin: 0px\;"><span style="border: 0px\; font-style: inherit\; font-variant-caps: inherit\; font-stretch: inherit\; font-size: 14pt\; line-height: inherit\; font-family: Abadi\, sans-serif\; font-size-adjust: inherit\; font-kerning: inherit\; font-variant-alternates: inherit\; font-variant-ligatures: inherit\; font-variant-numeric: inherit\; font-variant-east-asian: inherit\; font-variant-position: inherit\; font-feature-settings: inherit\; font-optical-sizing: inherit\; font-variation-settings: inherit\; margin: 0px\; padding: 0px\; vertical-align: baseline\;">&nbsp\;</span></p>\n\n<p align="center" style="font-size: 12pt\; caret-color: rgb(36\, 36\, 36)\; color: rgb(36\, 36\, 36)\; font-family: Aptos\, sans-serif\; text-align: center\; margin: 0px\;"><b><span style="border: 0px\; font-style: inherit\; font-variant-caps: inherit\; font-weight: inherit\; font-stretch: inherit\; font-size: 14pt\; line-height: inherit\; font-family: Abadi\, sans-serif\; font-size-adjust: inherit\; font-kerning: inherit\; font-variant-alternates: inherit\; font-variant-ligatures: inherit\; font-variant-numeric: inherit\; font-variant-east-asian: inherit\; font-variant-position: inherit\; font-feature-settings: inherit\; font-optical-sizing: inherit\; font-variation-settings: inherit\; margin: 0px\; padding: 0px\; vertical-align: baseline\; color: rgb(33\, 95\, 154)\;">Why Attend?</span></b></p>\n\n<p align="center" style="font-size: 12pt\; caret-color: rgb(36\, 36\, 36)\; color: rgb(36\, 36\, 36)\; font-family: Aptos\, sans-serif\; text-align: center\; margin: 0px 0px 0px 36pt\;"><span style="border: 0px\; font-style: inherit\; font-variant-caps: inherit\; font-stretch: inherit\; font-size: 14pt\; line-height: inherit\; font-family: Abadi\, sans-serif\; font-size-adjust: inherit\; font-kerning: inherit\; font-variant-alternates: inherit\; font-variant-ligatures: inherit\; font-variant-numeric: inherit\; font-variant-east-asian: inherit\; font-variant-position: inherit\; font-feature-settings: inherit\; font-optical-sizing: inherit\; font-variation-settings: inherit\; margin: 0px\; padding: 0px\; vertical-align: baseline\;">Community involvement is key to:</span></p>\n\n<ul style="caret-color: rgb(36\, 36\, 36)\; color: rgb(36\, 36\, 36)\; font-family: &quot\;Segoe UI&quot\;\, &quot\;Segoe UI Web (West European)&quot\;\, -apple-system\, BlinkMacSystemFont\, Roboto\, &quot\;Helvetica Neue&quot\;\, sans-serif\; font-size: 15px\; margin-top: 0px\; margin-bottom: 0px\;" type="disc">\n	<li style="font-size: 12pt\; font-family: Aptos\, sans-serif\; text-align: center\; margin: 0px\;"><span style="border: 0px\; font-style: inherit\; font-variant-caps: inherit\; font-stretch: inherit\; font-size: 14pt\; line-height: inherit\; font-family: Abadi\, sans-serif\; font-size-adjust: inherit\; font-kerning: inherit\; font-variant-alternates: inherit\; font-variant-ligatures: inherit\; font-variant-numeric: inherit\; font-variant-east-asian: inherit\; font-variant-position: inherit\; font-feature-settings: inherit\; font-optical-sizing: inherit\; font-variation-settings: inherit\; margin: 0px\; padding: 0px\; vertical-align: baseline\;">Allows businesses to establish meaningful connections and give back to those in need.</span></li>\n	<li style="font-size: 12pt\; font-family: Aptos\, sans-serif\; text-align: center\; margin: 0px\;"><span style="border: 0px\; font-style: inherit\; font-variant-caps: inherit\; font-stretch: inherit\; font-size: 14pt\; line-height: inherit\; font-family: Abadi\, sans-serif\; font-size-adjust: inherit\; font-kerning: inherit\; font-variant-alternates: inherit\; font-variant-ligatures: inherit\; font-variant-numeric: inherit\; font-variant-east-asian: inherit\; font-variant-position: inherit\; font-feature-settings: inherit\; font-optical-sizing: inherit\; font-variation-settings: inherit\; margin: 0px\; padding: 0px\; vertical-align: baseline\;">Aids in retention efforts for positive employee experiences and principles.&nbsp\;</span></li>\n	<li style="font-size: 12pt\; font-family: Aptos\, sans-serif\; text-align: center\; margin: 0px\;"><span style="border: 0px\; font-style: inherit\; font-variant-caps: inherit\; font-stretch: inherit\; font-size: 14pt\; line-height: inherit\; font-family: Abadi\, sans-serif\; font-size-adjust: inherit\; font-kerning: inherit\; font-variant-alternates: inherit\; font-variant-ligatures: inherit\; font-variant-numeric: inherit\; font-variant-east-asian: inherit\; font-variant-position: inherit\; font-feature-settings: inherit\; font-optical-sizing: inherit\; font-variation-settings: inherit\; margin: 0px\; padding: 0px\; vertical-align: baseline\;">Fosters relationships that can lead to growth\, collaboration\, and innovation.</span></li>\n	<li style="font-size: 12pt\; font-family: Aptos\, sans-serif\; text-align: center\; margin: 0px\;"><span style="border: 0px\; font-style: inherit\; font-variant-caps: inherit\; font-stretch: inherit\; font-size: 14pt\; line-height: inherit\; font-family: Abadi\, sans-serif\; font-size-adjust: inherit\; font-kerning: inherit\; font-variant-alternates: inherit\; font-variant-ligatures: inherit\; font-variant-numeric: inherit\; font-variant-east-asian: inherit\; font-variant-position: inherit\; font-feature-settings: inherit\; font-optical-sizing: inherit\; font-variation-settings: inherit\; margin: 0px\; padding: 0px\; vertical-align: baseline\;">Increases brand awareness and positive reputation.</span></li>\n	<li style="font-size: 12pt\; font-family: Aptos\, sans-serif\; text-align: center\; margin: 0px\;"><span style="border: 0px\; font-style: inherit\; font-variant-caps: inherit\; font-stretch: inherit\; font-size: 14pt\; line-height: inherit\; font-family: Abadi\, sans-serif\; font-size-adjust: inherit\; font-kerning: inherit\; font-variant-alternates: inherit\; font-variant-ligatures: inherit\; font-variant-numeric: inherit\; font-variant-east-asian: inherit\; font-variant-position: inherit\; font-feature-settings: inherit\; font-optical-sizing: inherit\; font-variation-settings: inherit\; margin: 0px\; padding: 0px\; vertical-align: baseline\;">Helps businesses thrive by supporting the well-being of their local communities.</span></li>\n	<li style="font-size: 12pt\; font-family: Aptos\, sans-serif\; text-align: center\; margin: 0px\;"><span style="border: 0px\; font-style: inherit\; font-variant-caps: inherit\; font-stretch: inherit\; font-size: 14pt\; line-height: inherit\; font-family: Abadi\, sans-serif\; font-size-adjust: inherit\; font-kerning: inherit\; font-variant-alternates: inherit\; font-variant-ligatures: inherit\; font-variant-numeric: inherit\; font-variant-east-asian: inherit\; font-variant-position: inherit\; font-feature-settings: inherit\; font-optical-sizing: inherit\; font-variation-settings: inherit\; margin: 0px\; padding: 0px\; vertical-align: baseline\;">Complements an organization&#39\;s business operations and founding principles.</span></li>\n</ul>\n\n<p align="center" style="font-size: 12pt\; caret-color: rgb(36\, 36\, 36)\; color: rgb(36\, 36\, 36)\; font-family: Aptos\, sans-serif\; text-align: center\; margin: 0px\;"><span style="border: 0px\; font-style: inherit\; font-variant-caps: inherit\; font-stretch: inherit\; font-size: 14pt\; line-height: inherit\; font-family: Abadi\, sans-serif\; font-size-adjust: inherit\; font-kerning: inherit\; font-variant-alternates: inherit\; font-variant-ligatures: inherit\; font-variant-numeric: inherit\; font-variant-east-asian: inherit\; font-variant-position: inherit\; font-feature-settings: inherit\; font-optical-sizing: inherit\; font-variation-settings: inherit\; margin: 0px\; padding: 0px\; vertical-align: baseline\;">&nbsp\;</span></p>\n\n<p align="center" style="font-size: 12pt\; caret-color: rgb(36\, 36\, 36)\; color: rgb(36\, 36\, 36)\; font-family: Aptos\, sans-serif\; text-align: center\; margin: 0px\;"><b><span style="border: 0px\; font-style: inherit\; font-variant-caps: inherit\; font-weight: inherit\; font-stretch: inherit\; font-size: 14pt\; line-height: inherit\; font-family: Abadi\, sans-serif\; font-size-adjust: inherit\; font-kerning: inherit\; font-variant-alternates: inherit\; font-variant-ligatures: inherit\; font-variant-numeric: inherit\; font-variant-east-asian: inherit\; font-variant-position: inherit\; font-feature-settings: inherit\; font-optical-sizing: inherit\; font-variation-settings: inherit\; margin: 0px\; padding: 0px\; vertical-align: baseline\; color: rgb(33\, 95\, 154)\;">RSVP Today</span></b></p>\n\n<p align="center" style="font-size: 12pt\; caret-color: rgb(36\, 36\, 36)\; color: rgb(36\, 36\, 36)\; font-family: Aptos\, sans-serif\; text-align: center\; margin: 0px\;"><span style="border: 0px\; font-style: inherit\; font-variant-caps: inherit\; font-stretch: inherit\; font-size: 14pt\; line-height: inherit\; font-family: Abadi\, sans-serif\; font-size-adjust: inherit\; font-kerning: inherit\; font-variant-alternates: inherit\; font-variant-ligatures: inherit\; font-variant-numeric: inherit\; font-variant-east-asian: inherit\; font-variant-position: inherit\; font-feature-settings: inherit\; font-optical-sizing: inherit\; font-variation-settings: inherit\; margin: 0px\; padding: 0px\; vertical-align: baseline\;">Invite your company&rsquo\;s community communications representative to attend.</span></p>\n\n<p align="center" style="font-size: 12pt\; caret-color: rgb(36\, 36\, 36)\; color: rgb(36\, 36\, 36)\; font-family: Aptos\, sans-serif\; text-align: center\; margin: 0px\;">&nbsp\;</p>\n\n<p align="center" style="font-size: 12pt\; caret-color: rgb(36\, 36\, 36)\; color: rgb(36\, 36\, 36)\; font-family: Aptos\, sans-serif\; text-align: center\; margin: 0px\;"><span style="border: 0px\; font-style: inherit\; font-variant-caps: inherit\; font-stretch: inherit\; font-size: 14pt\; line-height: inherit\; font-family: Abadi\, sans-serif\; font-size-adjust: inherit\; font-kerning: inherit\; font-variant-alternates: inherit\; font-variant-ligatures: inherit\; font-variant-numeric: inherit\; font-variant-east-asian: inherit\; font-variant-position: inherit\; font-feature-settings: inherit\; font-optical-sizing: inherit\; font-variation-settings: inherit\; margin: 0px\; padding: 0px\; vertical-align: baseline\;">We look forward to seeing you there!</span></p>\n\n<p align="center" style="font-size: 12pt\; caret-color: rgb(36\, 36\, 36)\; color: rgb(36\, 36\, 36)\; font-family: Aptos\, sans-serif\; text-align: center\; margin: 0px\;"><span style="border: 0px\; font-style: inherit\; font-variant-caps: inherit\; font-stretch: inherit\; font-size: 14pt\; line-height: inherit\; font-family: Abadi\, sans-serif\; font-size-adjust: inherit\; font-kerning: inherit\; font-variant-alternates: inherit\; font-variant-ligatures: inherit\; font-variant-numeric: inherit\; font-variant-east-asian: inherit\; font-variant-position: inherit\; font-feature-settings: inherit\; font-optical-sizing: inherit\; font-variation-settings: inherit\; margin: 0px\; padding: 0px\; vertical-align: baseline\;">Lunch provided\, please register for catering numbers by 5/8/2026&nbsp\;1pm</span></p>\n
LOCATION:Dennis Wicker Civic Center Room 111 (this is closest to the Kelly Drive parking lot)
UID:e.2280.3492
SEQUENCE:3
DTSTAMP:20260423T202209Z
URL:https://business.growsanfordnc.com/events/details/saga-presents-the-human-factor-series-2026-community-engagement-3492
END:VEVENT

END:VCALENDAR
