BEGIN:VCALENDAR
VERSION:2.0
PRODID:-//ChamberMaster//Event Calendar 2.0//EN
METHOD:PUBLISH
X-PUBLISHED-TTL:P3D
REFRESH-INTERVAL:P3D
CALSCALE:GREGORIAN
BEGIN:VEVENT
DTSTART:20250517T123000Z
DTEND:20250517T173000Z
X-MICROSOFT-CDO-ALLDAYEVENT:FALSE
SUMMARY:UNBREAKABLE Resilience Conference
DESCRIPTION:In recognition of May being Mental Health Awareness Month\, Let's Do It Together Foundation is presenting a resilience conference\, UNBREAKABLE!\, on Saturday\, May 17 at Christian Provision Ministries in Sanford. The Conference is designed to help individuals and families in their quest to overcome life challenges and traumas\, and to build strategies to grow and adapt in their present-day surroundings. The conference is free to attend and includes lunch and child care. The UNBREAKABLE! Resiliency Conference is a collaboration between the Let's Do It Together Foundation\, the Lee County Partnership For Children And Families\, the Lee County Community\n\nResilience Collaborative and Positive Direction For Youth.The conference keynote speaker Ben David will talk about Developing A Trauma-Informed and Culturally Responsive Community. Mr. David is a former District Attorney of New Hanover County and presently serves as Co-Chair of the Chief Justice's Task Force on ACEs- Informed\n\nCourts. His work focuses on helping court officials to be more trauma-informed. Other workshop topics include suicide prevention\, mentoring\, and resilience tools for youth and parents.
X-ALT-DESC;FMTTYPE=text/html:In recognition of May being Mental Health Awareness Month\, Let&rsquo\;s Do It Together Foundation is presenting a resilience conference\, UNBREAKABLE!\, on Saturday\, May 17 at Christian Provision Ministries in Sanford.&nbsp\;The Conference is designed to help individuals and families in&nbsp\;their quest to overcome life challenges and traumas\, and to build strategies to grow and adapt&nbsp\;in their present-day surroundings. The conference is free to attend and includes lunch and child&nbsp\;care.&nbsp\;The UNBREAKABLE! Resiliency Conference is a collaboration between the Let&rsquo\;s Do It Together&nbsp\;Foundation\, the Lee County Partnership For Children And Families\, the Lee County Community<br />\nResilience Collaborative and Positive Direction For Youth.The conference keynote speaker Ben David will talk about Developing A Trauma-Informed and&nbsp\;Culturally Responsive Community. Mr. David is a former District Attorney of New Hanover&nbsp\;County and presently serves as Co-Chair of the Chief Justice&rsquo\;s Task Force on ACEs- Informed<br />\nCourts. His work focuses on helping court officials to be more trauma-informed. Other workshop topics include suicide prevention\, mentoring\, and resilience tools for youth and parents.
LOCATION:Christian Provision Ministries 2300 Courtland Drive Sanford\, NC 27330
UID:e.2280.3347
SEQUENCE:3
DTSTAMP:20260422T194925Z
URL:https://business.growsanfordnc.com/events/details/unbreakable-resilience-conference-3347
END:VEVENT

END:VCALENDAR
